BEGIN:VCALENDAR
VERSION:2.0
PRODID:-//Jugendkirche Forstern - ECPv6.9.0//NONSGML v1.0//EN
CALSCALE:GREGORIAN
METHOD:PUBLISH
X-ORIGINAL-URL:https://jugendkirche-forstern.de
X-WR-CALDESC:Veranstaltungen für Jugendkirche Forstern
REFRESH-INTERVAL;VALUE=DURATION:PT1H
X-Robots-Tag:noindex
X-PUBLISHED-TTL:PT1H
BEGIN:VTIMEZONE
TZID:Europe/Berlin
BEGIN:DAYLIGHT
TZOFFSETFROM:+0100
TZOFFSETTO:+0200
TZNAME:CEST
DTSTART:20210328T010000
END:DAYLIGHT
BEGIN:STANDARD
TZOFFSETFROM:+0200
TZOFFSETTO:+0100
TZNAME:CET
DTSTART:20211031T010000
END:STANDARD
END:VTIMEZONE
BEGIN:VEVENT
DTSTART;TZID=Europe/Berlin:20211224T230000
DTEND;TZID=Europe/Berlin:20211224T235900
DTSTAMP:20260426T061325
CREATED:20210927T221855Z
LAST-MODIFIED:20220318T033431Z
UID:1444-1640386800-1640390340@jugendkirche-forstern.de
SUMMARY:Christmette - Heilige Nacht
DESCRIPTION:Übertragung der Christmette aus der Pfarr- und Wallfahrtskirche Mariä Himmelfahrt in Forstern Tading. \n \nHier geht es zum Video.
URL:https://jugendkirche-forstern.de/event/christmette-heilige-nacht/
LOCATION:Livestream
CATEGORIES:Gottesdienste im Livestream
ATTACH;FMTTYPE=image/jpeg:https://jugendkirche-forstern.de/wp-content/uploads/2022/03/16x9_Titelbild_Liedheft_2021-12-24-Christmette.jpg
END:VEVENT
END:VCALENDAR