BEGIN:VCALENDAR
VERSION:2.0
PRODID:-//Jugendkirche Forstern - ECPv6.9.0//NONSGML v1.0//EN
CALSCALE:GREGORIAN
METHOD:PUBLISH
X-WR-CALNAME:Jugendkirche Forstern
X-ORIGINAL-URL:https://jugendkirche-forstern.de
X-WR-CALDESC:Veranstaltungen für Jugendkirche Forstern
REFRESH-INTERVAL;VALUE=DURATION:PT1H
X-Robots-Tag:noindex
X-PUBLISHED-TTL:PT1H
BEGIN:VTIMEZONE
TZID:Europe/Berlin
BEGIN:DAYLIGHT
TZOFFSETFROM:+0100
TZOFFSETTO:+0200
TZNAME:CEST
DTSTART:20220327T010000
END:DAYLIGHT
BEGIN:STANDARD
TZOFFSETFROM:+0200
TZOFFSETTO:+0100
TZNAME:CET
DTSTART:20221030T010000
END:STANDARD
END:VTIMEZONE
BEGIN:VEVENT
DTSTART;TZID=Europe/Berlin:20221030T103000
DTEND;TZID=Europe/Berlin:20221030T113000
DTSTAMP:20260425T162217
CREATED:20221025T152632Z
LAST-MODIFIED:20221025T152818Z
UID:1769-1667125800-1667129400@jugendkirche-forstern.de
SUMMARY:31. Sonntag im Jahreskreis
DESCRIPTION:Übertragung des 31. Sonntags im Jahreskreis aus der Pfarr- und Wallfahrtskirche Mariä Himmelfahrt in Forstern Tading. \n \nHier geht es zum Video.
URL:https://jugendkirche-forstern.de/event/31-sonntag-im-jahreskreis/
LOCATION:Livestream
CATEGORIES:Gottesdienste im Livestream
ATTACH;FMTTYPE=image/jpeg:https://jugendkirche-forstern.de/wp-content/uploads/2020/04/16x9_youtube_start_Gnadenbild_blau-scaled.jpg
END:VEVENT
END:VCALENDAR