BEGIN:VCALENDAR
VERSION:2.0
PRODID:-//Jugendkirche Forstern - ECPv6.9.0//NONSGML v1.0//EN
CALSCALE:GREGORIAN
METHOD:PUBLISH
X-ORIGINAL-URL:https://jugendkirche-forstern.de
X-WR-CALDESC:Veranstaltungen für Jugendkirche Forstern
REFRESH-INTERVAL;VALUE=DURATION:PT1H
X-Robots-Tag:noindex
X-PUBLISHED-TTL:PT1H
BEGIN:VTIMEZONE
TZID:Europe/Berlin
BEGIN:DAYLIGHT
TZOFFSETFROM:+0100
TZOFFSETTO:+0200
TZNAME:CEST
DTSTART:20230326T010000
END:DAYLIGHT
BEGIN:STANDARD
TZOFFSETFROM:+0200
TZOFFSETTO:+0100
TZNAME:CET
DTSTART:20231029T010000
END:STANDARD
END:VTIMEZONE
BEGIN:VEVENT
DTSTART;TZID=Europe/Berlin:20230721T190000
DTEND;TZID=Europe/Berlin:20230721T233000
DTSTAMP:20260425T045026
CREATED:20230324T224353Z
LAST-MODIFIED:20230903T183429Z
UID:1789-1689966000-1689982200@jugendkirche-forstern.de
SUMMARY:Movie Night
DESCRIPTION:Movie Night in der Jugendkirche\nSchon einmal für ein Blockbuster-Kinoerlebnis in die Kirche gegangen? Schau doch am 21. Juli um 19 Uhr in der Jugendkirche vorbei. Bei gutem Wetter beginnen wir mit einem gemeinsamen Grillen im Pfarrgarten und starten anschließend den Filmabend auf der großen Leinwand in der Jugendkirche.
URL:https://jugendkirche-forstern.de/event/movie-night-2/
LOCATION:Jugendkirche Forstern\, Tadinger Str. 7\, Forstern\, Bayern\, 85659\, Deutschland
ATTACH;FMTTYPE=image/png:https://jugendkirche-forstern.de/wp-content/uploads/2022/03/cinema-with-popcorn-box_cropped_homepage-1080p-reduced.png
END:VEVENT
END:VCALENDAR