BEGIN:VCALENDAR
VERSION:2.0
PRODID:-//Jugendkirche Forstern - ECPv6.9.0//NONSGML v1.0//EN
CALSCALE:GREGORIAN
METHOD:PUBLISH
X-ORIGINAL-URL:https://jugendkirche-forstern.de
X-WR-CALDESC:Veranstaltungen für Jugendkirche Forstern
REFRESH-INTERVAL;VALUE=DURATION:PT1H
X-Robots-Tag:noindex
X-PUBLISHED-TTL:PT1H
BEGIN:VTIMEZONE
TZID:Europe/Berlin
BEGIN:DAYLIGHT
TZOFFSETFROM:+0100
TZOFFSETTO:+0200
TZNAME:CEST
DTSTART:20230326T010000
END:DAYLIGHT
BEGIN:STANDARD
TZOFFSETFROM:+0200
TZOFFSETTO:+0100
TZNAME:CET
DTSTART:20231029T010000
END:STANDARD
END:VTIMEZONE
BEGIN:VEVENT
DTSTART;TZID=Europe/Berlin:20230823T160000
DTEND;TZID=Europe/Berlin:20230823T180000
DTSTAMP:20260425T032836
CREATED:20230324T225916Z
LAST-MODIFIED:20230903T183331Z
UID:1791-1692806400-1692813600@jugendkirche-forstern.de
SUMMARY:Movie Night for Kids
DESCRIPTION:Kinoabend für Kinder in der Jugendkirche\nSchon einmal für ein Kinoerlebnis in die Kirche gegangen? Schau doch im August in der Jugendkirche vorbei. Die Anmeldung erfolgt über das offizielle Kinderferienprogramm der Gemeinde Forstern. \nBildquelle: Bild von serhii_bobyk auf Freepik
URL:https://jugendkirche-forstern.de/event/movie-night-for-kids/
LOCATION:Jugendkirche Forstern\, Tadinger Str. 7\, Forstern\, Bayern\, 85659\, Deutschland
CATEGORIES:Mediathek Timeline
ATTACH;FMTTYPE=image/png:https://jugendkirche-forstern.de/wp-content/uploads/2023/03/movie-night-for-kids.png
END:VEVENT
END:VCALENDAR