BEGIN:VCALENDAR
VERSION:2.0
PRODID:-//Jugendkirche Forstern - ECPv6.9.0//NONSGML v1.0//EN
CALSCALE:GREGORIAN
METHOD:PUBLISH
X-ORIGINAL-URL:https://jugendkirche-forstern.de
X-WR-CALDESC:Veranstaltungen für Jugendkirche Forstern
REFRESH-INTERVAL;VALUE=DURATION:PT1H
X-Robots-Tag:noindex
X-PUBLISHED-TTL:PT1H
BEGIN:VTIMEZONE
TZID:Europe/Berlin
BEGIN:DAYLIGHT
TZOFFSETFROM:+0100
TZOFFSETTO:+0200
TZNAME:CEST
DTSTART:20240331T010000
END:DAYLIGHT
BEGIN:STANDARD
TZOFFSETFROM:+0200
TZOFFSETTO:+0100
TZNAME:CET
DTSTART:20241027T010000
END:STANDARD
END:VTIMEZONE
BEGIN:VEVENT
DTSTART;TZID=Europe/Berlin:20240322T190000
DTEND;TZID=Europe/Berlin:20240322T200000
DTSTAMP:20260424T175827
CREATED:20240224T093526Z
LAST-MODIFIED:20240224T093644Z
UID:1854-1711134000-1711137600@jugendkirche-forstern.de
SUMMARY:Jugendkreuzweg 2024 - "Dein POV"
DESCRIPTION:Wenn du in den sozialen Medien wie Instagram oder TikTok unterwegs bist\, hast du diese Abkürzung bestimmt schon einmal auf Fotos oder Videos gesehen. POV steht für Point of View. Das Konzert von der Empore aus\, ein Gleitschirmflug mit der Helmkamera oder Downhillfahren mit der GoPro gefilmt – so zeigen Menschen Teile ihres Lebens aus ihrem Blickwinkel auf Social Media. Immer wieder wird #POV auch verwendet\, um sich in andere Menschen oder sogar Gegenstände hineinzuversetzen. \nDie Abkürzung POV bezieht sich also auf Standpunkte\, Sichtweisen und Blickwinkel. Der Jugendkreuzweg will dich dazu einladen\, Jesus in den Fokus zu nehmen und dich in ihn und seinen Weg zum Kreuz hineinzuversetzen.
URL:https://jugendkirche-forstern.de/event/jugendkreuzweg-2024-dein-pov/
LOCATION:Jugendkirche Forstern\, Tadinger Str. 7\, Forstern\, Bayern\, 85659\, Deutschland
CATEGORIES:Frontpage Highlights,Mediathek Timeline
ATTACH;FMTTYPE=image/jpeg:https://jugendkirche-forstern.de/wp-content/uploads/2024/02/Jugendkreuzweg2024-dein-pov.jpg
END:VEVENT
END:VCALENDAR