BEGIN:VCALENDAR
VERSION:2.0
PRODID:-//Jugendkirche Forstern - ECPv6.9.0//NONSGML v1.0//EN
CALSCALE:GREGORIAN
METHOD:PUBLISH
X-WR-CALNAME:Jugendkirche Forstern
X-ORIGINAL-URL:https://jugendkirche-forstern.de
X-WR-CALDESC:Veranstaltungen für Jugendkirche Forstern
REFRESH-INTERVAL;VALUE=DURATION:PT1H
X-Robots-Tag:noindex
X-PUBLISHED-TTL:PT1H
BEGIN:VTIMEZONE
TZID:Europe/Berlin
BEGIN:DAYLIGHT
TZOFFSETFROM:+0100
TZOFFSETTO:+0200
TZNAME:CEST
DTSTART:20240331T010000
END:DAYLIGHT
BEGIN:STANDARD
TZOFFSETFROM:+0200
TZOFFSETTO:+0100
TZNAME:CET
DTSTART:20241027T010000
END:STANDARD
END:VTIMEZONE
BEGIN:VEVENT
DTSTART;TZID=Europe/Berlin:20240503T190000
DTEND;TZID=Europe/Berlin:20240503T200000
DTSTAMP:20260424T151853
CREATED:20240415T210235Z
LAST-MODIFIED:20240415T210235Z
UID:1863-1714762800-1714766400@jugendkirche-forstern.de
SUMMARY:Jugendmaiandacht 2024
DESCRIPTION:Komm vorbei am 3. Mai um 19 Uhr in der Jugendkirche Forstern. Wir freuen uns darauf\, gemeinsam mit dir diese Maiandacht zu feiern.
URL:https://jugendkirche-forstern.de/event/jugendmaiandacht-2024/
LOCATION:Jugendkirche Forstern\, Tadinger Str. 7\, Forstern\, Bayern\, 85659\, Deutschland
CATEGORIES:Frontpage Highlights
END:VEVENT
END:VCALENDAR