BEGIN:VCALENDAR
VERSION:2.0
PRODID:-//Jugendkirche Forstern - ECPv6.9.0//NONSGML v1.0//EN
CALSCALE:GREGORIAN
METHOD:PUBLISH
X-ORIGINAL-URL:https://jugendkirche-forstern.de
X-WR-CALDESC:Veranstaltungen für Jugendkirche Forstern
REFRESH-INTERVAL;VALUE=DURATION:PT1H
X-Robots-Tag:noindex
X-PUBLISHED-TTL:PT1H
BEGIN:VTIMEZONE
TZID:Europe/Berlin
BEGIN:DAYLIGHT
TZOFFSETFROM:+0100
TZOFFSETTO:+0200
TZNAME:CEST
DTSTART:20250330T010000
END:DAYLIGHT
BEGIN:STANDARD
TZOFFSETFROM:+0200
TZOFFSETTO:+0100
TZNAME:CET
DTSTART:20251026T010000
END:STANDARD
END:VTIMEZONE
BEGIN:VEVENT
DTSTART;TZID=Europe/Berlin:20251012T190000
DTEND;TZID=Europe/Berlin:20251012T203000
DTSTAMP:20260424T045955
CREATED:20250922T125053Z
LAST-MODIFIED:20250922T125236Z
UID:1912-1760295600-1760301000@jugendkirche-forstern.de
SUMMARY:Movie-Gottesdienst 2025
DESCRIPTION:Unter dem Motto „Von Drachen und Samaritern“ findet in der Jugendkirche die größte Veranstaltung des Jahres 2025 statt. Der Movie-Gottesdienst orientiert sich an Szenen aus einem bekannten Kinofilm-Hit und wird untermalt von eindrucksvollen Lichtakzenten\, moderner Musik des Jugendchors Chorazon und einem interaktiven Dialog mit den Besuchern. Junge Menschen aus den Pfarreien des Pfarrverbands Walpertskirchen und Maria-Tading gestalten so eine gemeinsame Eucharistiefeier der besonderen Art. \nIm Anschluss gibt es noch ein Get-Together mit Verpflegung. \nOb jung oder jung geblieben\, jeder ist herzlich eingeladen. \n\n\n\n\n\n 
URL:https://jugendkirche-forstern.de/event/movie-gottesdienst-2025/
LOCATION:Jugendkirche Forstern\, Tadinger Str. 7\, Forstern\, Bayern\, 85659\, Deutschland
CATEGORIES:Frontpage Highlights,Mediathek Timeline
ATTACH;FMTTYPE=image/png:https://jugendkirche-forstern.de/wp-content/uploads/2025/09/von-drachen-und-samaritern.png
END:VEVENT
END:VCALENDAR