BEGIN:VCALENDAR
VERSION:2.0
PRODID:-//Jugendkirche Forstern - ECPv6.9.0//NONSGML v1.0//EN
CALSCALE:GREGORIAN
METHOD:PUBLISH
X-WR-CALNAME:Jugendkirche Forstern
X-ORIGINAL-URL:https://jugendkirche-forstern.de
X-WR-CALDESC:Veranstaltungen für Jugendkirche Forstern
REFRESH-INTERVAL;VALUE=DURATION:PT1H
X-Robots-Tag:noindex
X-PUBLISHED-TTL:PT1H
BEGIN:VTIMEZONE
TZID:Europe/Berlin
BEGIN:DAYLIGHT
TZOFFSETFROM:+0100
TZOFFSETTO:+0200
TZNAME:CEST
DTSTART:20260329T010000
END:DAYLIGHT
BEGIN:STANDARD
TZOFFSETFROM:+0200
TZOFFSETTO:+0100
TZNAME:CET
DTSTART:20261025T010000
END:STANDARD
END:VTIMEZONE
BEGIN:VEVENT
DTSTART;TZID=Europe/Berlin:20260327T190000
DTEND;TZID=Europe/Berlin:20260327T203000
DTSTAMP:20260424T062501
CREATED:20250118T085327Z
LAST-MODIFIED:20260313T093349Z
UID:1905-1774638000-1774643400@jugendkirche-forstern.de
SUMMARY:Jugendkreuzweg 2026 - Dahinter. Tiefer sehen\, weiter gehen.
DESCRIPTION:Jugendliche des Pfarrverbandes Maria-Tading und des Pfarrverbandes Walpertskirchen gestalten diesen ökumenischen Kreuzweg der Jugend mit dem Motto „dahinter. Tiefer sehen\, weiter gehen“. Wir laden herzlich in die Jugendkirche nach Forstern ein.
URL:https://jugendkirche-forstern.de/event/jugendkreuzweg-2026/
LOCATION:Jugendkirche Forstern\, Tadinger Str. 7\, Forstern\, Bayern\, 85659\, Deutschland
CATEGORIES:Frontpage Highlights,Mediathek Timeline
ATTACH;FMTTYPE=image/png:https://jugendkirche-forstern.de/wp-content/uploads/2025/01/jkw26-mottobild-compressed.png
END:VEVENT
END:VCALENDAR