BEGIN:VCALENDAR
VERSION:2.0
PRODID:-//Jugendkirche Forstern - ECPv6.9.0//NONSGML v1.0//EN
CALSCALE:GREGORIAN
METHOD:PUBLISH
X-WR-CALNAME:Jugendkirche Forstern
X-ORIGINAL-URL:https://jugendkirche-forstern.de
X-WR-CALDESC:Veranstaltungen für Jugendkirche Forstern
REFRESH-INTERVAL;VALUE=DURATION:PT1H
X-Robots-Tag:noindex
X-PUBLISHED-TTL:PT1H
BEGIN:VTIMEZONE
TZID:Europe/Berlin
BEGIN:DAYLIGHT
TZOFFSETFROM:+0100
TZOFFSETTO:+0200
TZNAME:CEST
DTSTART:20260329T010000
END:DAYLIGHT
BEGIN:STANDARD
TZOFFSETFROM:+0200
TZOFFSETTO:+0100
TZNAME:CET
DTSTART:20261025T010000
END:STANDARD
END:VTIMEZONE
BEGIN:VEVENT
DTSTART;TZID=Europe/Berlin:20260612T190000
DTEND;TZID=Europe/Berlin:20260612T190000
DTSTAMP:20260424T022253
CREATED:20251126T161521Z
LAST-MODIFIED:20251126T162000Z
UID:1931-1781290800-1781290800@jugendkirche-forstern.de
SUMMARY:Movie Night
DESCRIPTION:Movie Night in der Jugendkirche\nSchon einmal für ein Blockbuster-Kinoerlebnis in die Kirche gegangen? \nSchau doch am 12. Juni um 19 Uhr in der Jugendkirche vorbei. Bei gutem Wetter beginnen wir mit einem gemeinsamen Grillen im Pfarrgarten gegenüber der Kirche (Hirschbachweg 4\, 85659 Forstern) und starten die Filmvorführung um 20 Uhr auf der großen Leinwand in der Jugendkirche. Eine Anmeldung ist nicht erforderlich\, komm einfach spontan vorbei und bringe deine Freunde mit!
URL:https://jugendkirche-forstern.de/event/movie-night-4/
LOCATION:Jugendkirche Forstern\, Tadinger Str. 7\, Forstern\, Bayern\, 85659\, Deutschland
CATEGORIES:Frontpage Highlights
ATTACH;FMTTYPE=image/png:https://jugendkirche-forstern.de/wp-content/uploads/2022/03/cinema-with-popcorn-box_cropped_homepage-1080p-reduced.png
END:VEVENT
END:VCALENDAR