BEGIN:VCALENDAR
VERSION:2.0
PRODID:-//Jugendkirche Forstern - ECPv6.9.0//NONSGML v1.0//EN
CALSCALE:GREGORIAN
METHOD:PUBLISH
X-WR-CALNAME:Jugendkirche Forstern
X-ORIGINAL-URL:https://jugendkirche-forstern.de
X-WR-CALDESC:Veranstaltungen für Jugendkirche Forstern
REFRESH-INTERVAL;VALUE=DURATION:PT1H
X-Robots-Tag:noindex
X-PUBLISHED-TTL:PT1H
BEGIN:VTIMEZONE
TZID:Europe/Berlin
BEGIN:DAYLIGHT
TZOFFSETFROM:+0100
TZOFFSETTO:+0200
TZNAME:CEST
DTSTART:20210328T010000
END:DAYLIGHT
BEGIN:STANDARD
TZOFFSETFROM:+0200
TZOFFSETTO:+0100
TZNAME:CET
DTSTART:20211031T010000
END:STANDARD
END:VTIMEZONE
BEGIN:VEVENT
DTSTART;TZID=Europe/Berlin:20211121T190000
DTEND;TZID=Europe/Berlin:20211121T210000
DTSTAMP:20260426T060926
CREATED:20210927T221304Z
LAST-MODIFIED:20220325T151818Z
UID:1437-1637521200-1637528400@jugendkirche-forstern.de
SUMMARY:Jugendgottesdienst 2021 - Hörst du mich? UND WIE!
DESCRIPTION:Dieser Gottesdienst wird alles andere als gewöhnlich:\nUnter dem Arbeitsmotto „Hörst du mich? Und wie? UND WIE!“ gestalten Gruppen von Jugendlichen aus den verschiedensten Pfarreien des Landkreises Erding eine gemeinsame Jugendmesse. Doch das Besondere daran: Alle Teilnehmer sind virtuell und in Echtzeit in einem Livestream vereint. In Videobeiträgen\, Liveschalten\, Präsentationen und Interaktionen mit Mitfeiernden gestalten sie eine gemeinsame Eucharistiefeier der besonderen Art. \nOb jung oder jung geblieben\, jeder ist herzlich eingeladen. \nHier geht es zum Video\n\n\n\n\n\n\n\n\nInfobroschüren zum Download\nJugendgottesdienst Plakat DIN A4  Jugendgottesdienst Plakat DIN A5  Jugendkreuzweg Banner Social Media  \n\n\n\n\n\n\n \nHier geht es zum Video.
URL:https://jugendkirche-forstern.de/event/jugendgottesdienst-2021/
LOCATION:Livestream
CATEGORIES:Gottesdienste im Livestream,Mediathek Timeline
ATTACH;FMTTYPE=image/png:https://jugendkirche-forstern.de/wp-content/uploads/2021/10/Jugo1021YouTube_v2_mit_Motto.png
END:VEVENT
END:VCALENDAR