BEGIN:VCALENDAR
VERSION:2.0
PRODID:-//Jugendkirche Forstern - ECPv6.9.0//NONSGML v1.0//EN
CALSCALE:GREGORIAN
METHOD:PUBLISH
X-ORIGINAL-URL:https://jugendkirche-forstern.de
X-WR-CALDESC:Veranstaltungen für Jugendkirche Forstern
REFRESH-INTERVAL;VALUE=DURATION:PT1H
X-Robots-Tag:noindex
X-PUBLISHED-TTL:PT1H
BEGIN:VTIMEZONE
TZID:Europe/Berlin
BEGIN:DAYLIGHT
TZOFFSETFROM:+0100
TZOFFSETTO:+0200
TZNAME:CEST
DTSTART:20220327T010000
END:DAYLIGHT
BEGIN:STANDARD
TZOFFSETFROM:+0200
TZOFFSETTO:+0100
TZNAME:CET
DTSTART:20221030T010000
END:STANDARD
END:VTIMEZONE
BEGIN:VEVENT
DTSTART;TZID=Europe/Berlin:20220501T103000
DTEND;TZID=Europe/Berlin:20220501T113000
DTSTAMP:20260425T215132
CREATED:20220318T005352Z
LAST-MODIFIED:20220430T112403Z
UID:1638-1651401000-1651404600@jugendkirche-forstern.de
SUMMARY:Erster Mai
DESCRIPTION:Übertragung des Gottesdienstes aus der Pfarr- und Wallfahrtskirche Mariä Himmelfahrt in Forstern Tading. \n \nHier geht es zum Video.
URL:https://jugendkirche-forstern.de/event/erster-mai/
LOCATION:Livestream
CATEGORIES:Gottesdienste im Livestream
ATTACH;FMTTYPE=image/jpeg:https://jugendkirche-forstern.de/wp-content/uploads/2022/03/16x9_youtube_start_2022-05-01-3.-Sonntag-der-Osterzeit.jpg
END:VEVENT
BEGIN:VEVENT
DTSTART;TZID=Europe/Berlin:20220527T180000
DTEND;TZID=Europe/Berlin:20220527T220000
DTSTAMP:20260425T215132
CREATED:20220325T155745Z
LAST-MODIFIED:20220402T141144Z
UID:1749-1653674400-1653688800@jugendkirche-forstern.de
SUMMARY:Movie Night
DESCRIPTION:Movie Night in der Jugendkirche\nSchon einmal für ein Blockbuster-Kinoerlebnis in die Kirche gegangen? Schau doch am 27. Mai um 18 Uhr in der Jugendkirche vorbei. Wir beginnen mit einem gemeinsamen Grillen und anschließendem Filmabend auf der großen Leinwand. Du kannst dich von der Filmwahl überraschen lassen oder auch selber einen Vorschlag machen.
URL:https://jugendkirche-forstern.de/event/movie-night/
LOCATION:Jugendkirche Forstern\, Tadinger Str. 7\, Forstern\, Bayern\, 85659\, Deutschland
CATEGORIES:Frontpage Highlights
ATTACH;FMTTYPE=image/png:https://jugendkirche-forstern.de/wp-content/uploads/2022/03/cinema-with-popcorn-box_cropped_homepage-1080p-reduced.png
END:VEVENT
END:VCALENDAR