BEGIN:VCALENDAR
VERSION:2.0
PRODID:-//Jugendkirche Forstern - ECPv6.9.0//NONSGML v1.0//EN
CALSCALE:GREGORIAN
METHOD:PUBLISH
X-WR-CALNAME:Jugendkirche Forstern
X-ORIGINAL-URL:https://jugendkirche-forstern.de
X-WR-CALDESC:Veranstaltungen für Jugendkirche Forstern
REFRESH-INTERVAL;VALUE=DURATION:PT1H
X-Robots-Tag:noindex
X-PUBLISHED-TTL:PT1H
BEGIN:VTIMEZONE
TZID:Europe/Berlin
BEGIN:DAYLIGHT
TZOFFSETFROM:+0100
TZOFFSETTO:+0200
TZNAME:CEST
DTSTART:20230326T010000
END:DAYLIGHT
BEGIN:STANDARD
TZOFFSETFROM:+0200
TZOFFSETTO:+0100
TZNAME:CET
DTSTART:20231029T010000
END:STANDARD
END:VTIMEZONE
BEGIN:VEVENT
DTSTART;TZID=Europe/Berlin:20231222T190000
DTEND;TZID=Europe/Berlin:20231222T210000
DTSTAMP:20260424T204822
CREATED:20230324T230252Z
LAST-MODIFIED:20231125T141421Z
UID:1798-1703271600-1703278800@jugendkirche-forstern.de
SUMMARY:Adventsausklang
DESCRIPTION:Zwei Tage vor Weihnachten wollen wir gemeinsam mit allen Jungen und Junggebliebenen den Advent ausklingen lassen. Mit einer kurzen Andacht kommen wir nach der meist stressigen Adventszeit zur Ruhe und genießen danach das Zusammensein mit Glühwein\, Punsch und Essen. \nKeine Anmeldung nötig.
URL:https://jugendkirche-forstern.de/event/adventsausklang/
LOCATION:Jugendkirche Forstern\, Tadinger Str. 7\, Forstern\, Bayern\, 85659\, Deutschland
CATEGORIES:Frontpage Highlights,Mediathek Timeline
ATTACH;FMTTYPE=image/jpeg:https://jugendkirche-forstern.de/wp-content/uploads/2023/03/christmas-1911637_1920.jpg
END:VEVENT
END:VCALENDAR