BEGIN:VCALENDAR
VERSION:2.0
PRODID:-//Jugendkirche Forstern - ECPv6.9.0//NONSGML v1.0//EN
CALSCALE:GREGORIAN
METHOD:PUBLISH
X-WR-CALNAME:Jugendkirche Forstern
X-ORIGINAL-URL:https://jugendkirche-forstern.de
X-WR-CALDESC:Veranstaltungen für Jugendkirche Forstern
REFRESH-INTERVAL;VALUE=DURATION:PT1H
X-Robots-Tag:noindex
X-PUBLISHED-TTL:PT1H
BEGIN:VTIMEZONE
TZID:Europe/Berlin
BEGIN:DAYLIGHT
TZOFFSETFROM:+0100
TZOFFSETTO:+0200
TZNAME:CEST
DTSTART:20240331T010000
END:DAYLIGHT
BEGIN:STANDARD
TZOFFSETFROM:+0200
TZOFFSETTO:+0100
TZNAME:CET
DTSTART:20241027T010000
END:STANDARD
END:VTIMEZONE
BEGIN:VEVENT
DTSTART;TZID=Europe/Berlin:20240813T160000
DTEND;TZID=Europe/Berlin:20240813T180000
DTSTAMP:20260424T095627
CREATED:20240619T150941Z
LAST-MODIFIED:20240619T151602Z
UID:1866-1723564800-1723572000@jugendkirche-forstern.de
SUMMARY:Kinoabend - Kinderferienprogramm 2024
DESCRIPTION:Kinoabend für Kinder in der Jugendkirche\nAls Teil des offiziellen Kinderferienprogramms 2024 veranstaltet die Jugendkirche Forstern im August einen Kinabend für Kinder. Die Anmeldung erfolgt über das offizielle Kinderferienprogramm der Gemeinde Forstern. \nHier geht es zum Kinderferienprogramm Forstern \nBildquelle: Bild von serhii_bobyk auf Freepik
URL:https://jugendkirche-forstern.de/event/movie-night-for-kids-2/
LOCATION:Jugendkirche Forstern\, Tadinger Str. 7\, Forstern\, Bayern\, 85659\, Deutschland
CATEGORIES:Frontpage Highlights
ATTACH;FMTTYPE=image/png:https://jugendkirche-forstern.de/wp-content/uploads/2023/03/movie-night-for-kids.png
END:VEVENT
END:VCALENDAR