BEGIN:VCALENDAR
VERSION:2.0
PRODID:-//Jugendkirche Forstern - ECPv6.9.0//NONSGML v1.0//EN
CALSCALE:GREGORIAN
METHOD:PUBLISH
X-ORIGINAL-URL:https://jugendkirche-forstern.de
X-WR-CALDESC:Veranstaltungen für Jugendkirche Forstern
REFRESH-INTERVAL;VALUE=DURATION:PT1H
X-Robots-Tag:noindex
X-PUBLISHED-TTL:PT1H
BEGIN:VTIMEZONE
TZID:Europe/Berlin
BEGIN:DAYLIGHT
TZOFFSETFROM:+0100
TZOFFSETTO:+0200
TZNAME:CEST
DTSTART:20250330T010000
END:DAYLIGHT
BEGIN:STANDARD
TZOFFSETFROM:+0200
TZOFFSETTO:+0100
TZNAME:CET
DTSTART:20251026T010000
END:STANDARD
END:VTIMEZONE
BEGIN:VEVENT
DTSTART;TZID=Europe/Berlin:20250830T160000
DTEND;TZID=Europe/Berlin:20250830T180000
DTSTAMP:20260424T010236
CREATED:20250825T181336Z
LAST-MODIFIED:20250825T184313Z
UID:1910-1756569600-1756576800@jugendkirche-forstern.de
SUMMARY:Kinoabend - Kinderferienprogramm 2025
DESCRIPTION:Kinoabend für Kinder in der Jugendkirche.\nAls Teil des offiziellen Kinderferienprogramms 2025 veranstaltet die Jugendkirche Forstern im August einen Kinabend für Kinder. Die Anmeldung erfolgt über das offizielle Kinderferienprogramm der Gemeinde Forstern. \nDie Jugendkirche Forstern ist ein Raum\, in dem junge Menschen normalerweise gemeinsam Gottesdienst feiern. Dabei kommt viel audiovisuelle Unterstützung durch die Technik zum Einsatz und dazu gehört auch die große Leinwand im Altarraum. Wenn gerade kein Jugendgottesdienst stattfindet\, eignet sie die Leinwand prima\, um darauf mal einen Film anzusehen. Gezeigt wird ein altersgerechter Film. Für Snacks und Getränke ist gesorgt. Kino in der Jugendkirche – Das besondere Erlebnis für Kinder ab 6 Jahren. \nHier geht es zum Kinderferienprogramm Forstern \nBildquelle: Bild von serhii_bobyk auf Freepik
URL:https://jugendkirche-forstern.de/event/kinoabend-kinderferienprogramm-2025/
LOCATION:Jugendkirche Forstern\, Tadinger Str. 7\, Forstern\, Bayern\, 85659\, Deutschland
CATEGORIES:Frontpage Highlights
ATTACH;FMTTYPE=image/png:https://jugendkirche-forstern.de/wp-content/uploads/2023/03/movie-night-for-kids.png
END:VEVENT
END:VCALENDAR